BEGIN:VCALENDAR
VERSION:2.0
PRODID:-//lickingswcd.com//NONSGML kigkonsult.se iCalcreator 2.30.10//
CALSCALE:GREGORIAN
METHOD:PUBLISH
UID:9f6aaa5f-62c7-4f75-a1a6-a37c8bbdafe8
X-WR-CALDESC:
X-WR-RELCALID:26e05326db666336ee8ef2ccaeb2c99d
X-WR-TIMEZONE:America/New_York
BEGIN:VTIMEZONE
TZID:America/New_York
BEGIN:STANDARD
TZNAME:EST
DTSTART:20251102T020000
TZOFFSETFROM:-0400
TZOFFSETTO:-0500
RDATE:20261101T020000
RDATE:20271107T020000
END:STANDARD
BEGIN:DAYLIGHT
TZNAME:EDT
DTSTART:20260308T020000
TZOFFSETFROM:-0500
TZOFFSETTO:-0400
RDATE:20270314T020000
END:DAYLIGHT
END:VTIMEZONE
BEGIN:VEVENT
UID:3a4a265f-7fcf-48af-86fc-e0e302623aa7
DTSTAMP:20260422T021431Z
DESCRIPTION:
DTSTART;TZID=America/New_York:20260515T060000
DTEND;TZID=America/New_York:20260515T060001
LOCATION:
SUMMARY:Endangered Species Day
END:VEVENT
END:VCALENDAR
