BEGIN:VCALENDAR
VERSION:2.0
PRODID:-//lickingswcd.com//NONSGML kigkonsult.se iCalcreator 2.30.10//
CALSCALE:GREGORIAN
METHOD:PUBLISH
UID:60fba91b-d771-44bc-8523-524b8c7f3555
X-WR-CALDESC:
X-WR-RELCALID:1f8613d59767623e445decb99e53615d
X-WR-TIMEZONE:America/New_York
BEGIN:VTIMEZONE
TZID:America/New_York
BEGIN:STANDARD
TZNAME:EST
DTSTART:20251102T020000
TZOFFSETFROM:-0400
TZOFFSETTO:-0500
RDATE:20261101T020000
RDATE:20271107T020000
END:STANDARD
BEGIN:DAYLIGHT
TZNAME:EDT
DTSTART:20260308T020000
TZOFFSETFROM:-0500
TZOFFSETTO:-0400
RDATE:20270314T020000
END:DAYLIGHT
END:VTIMEZONE
BEGIN:VEVENT
UID:6a0ed2dc-f428-4e35-9992-fe1cf42771a3
DTSTAMP:20260422T003407Z
DESCRIPTION:
DTSTART;TZID=America/New_York:20260520T060000
DTEND;TZID=America/New_York:20260520T060001
LOCATION:
SUMMARY:World Bee Day
END:VEVENT
END:VCALENDAR
