BEGIN:VCALENDAR
VERSION:2.0
PRODID:-//lickingswcd.com//NONSGML kigkonsult.se iCalcreator 2.30.10//
CALSCALE:GREGORIAN
METHOD:PUBLISH
UID:afb5a2c7-9195-41c2-b7ec-b0591d032b79
X-WR-CALDESC:
X-WR-RELCALID:ad0edfed4b15bdb2c8a0a7ac0b1a63f4
X-WR-TIMEZONE:America/New_York
BEGIN:VTIMEZONE
TZID:America/New_York
BEGIN:STANDARD
TZNAME:EST
DTSTART:20251102T020000
TZOFFSETFROM:-0400
TZOFFSETTO:-0500
RDATE:20261101T020000
RDATE:20271107T020000
END:STANDARD
BEGIN:DAYLIGHT
TZNAME:EDT
DTSTART:20260308T020000
TZOFFSETFROM:-0500
TZOFFSETTO:-0400
RDATE:20270314T020000
END:DAYLIGHT
END:VTIMEZONE
BEGIN:VEVENT
UID:ee5e1794-b51a-4ef7-9552-6f6819f531bf
DTSTAMP:20260422T003856Z
DESCRIPTION:
DTSTART;TZID=America/New_York:20260522T060000
DTEND;TZID=America/New_York:20260522T060001
LOCATION:
SUMMARY:International Day of Biological Diversity
END:VEVENT
END:VCALENDAR
