BEGIN:VCALENDAR
VERSION:2.0
PRODID:-//lickingswcd.com//NONSGML kigkonsult.se iCalcreator 2.30.10//
CALSCALE:GREGORIAN
METHOD:PUBLISH
UID:9bd48635-e60c-4db9-aed4-dfb17928fdce
X-WR-CALDESC:
X-WR-RELCALID:364a84b29c624052af83eb4e499ab20f
X-WR-TIMEZONE:America/New_York
BEGIN:VTIMEZONE
TZID:America/New_York
BEGIN:STANDARD
TZNAME:EST
DTSTART:20251102T020000
TZOFFSETFROM:-0400
TZOFFSETTO:-0500
RDATE:20261101T020000
RDATE:20271107T020000
END:STANDARD
BEGIN:DAYLIGHT
TZNAME:EDT
DTSTART:20260308T020000
TZOFFSETFROM:-0500
TZOFFSETTO:-0400
RDATE:20270314T020000
END:DAYLIGHT
END:VTIMEZONE
BEGIN:VEVENT
UID:48d4eb7e-644f-41ce-a9fd-97f40c80f2bc
DTSTAMP:20260422T004451Z
DESCRIPTION:
DTSTART;TZID=America/New_York:20260523T060000
DTEND;TZID=America/New_York:20260523T060001
LOCATION:
SUMMARY:World Turtle Day
END:VEVENT
END:VCALENDAR
