BEGIN:VCALENDAR
VERSION:2.0
PRODID:-//lickingswcd.com//NONSGML kigkonsult.se iCalcreator 2.30.10//
CALSCALE:GREGORIAN
METHOD:PUBLISH
UID:c2a0bda2-0f1f-444e-ac6f-e49539b8f7eb
X-WR-CALDESC:
X-WR-RELCALID:b37da18e089f51bfe706e5da39d2a9dc
X-WR-TIMEZONE:America/New_York
BEGIN:VTIMEZONE
TZID:America/New_York
BEGIN:STANDARD
TZNAME:EST
DTSTART:20251102T020000
TZOFFSETFROM:-0400
TZOFFSETTO:-0500
RDATE:20261101T020000
RDATE:20271107T020000
END:STANDARD
BEGIN:DAYLIGHT
TZNAME:EDT
DTSTART:20260308T020000
TZOFFSETFROM:-0500
TZOFFSETTO:-0400
RDATE:20270314T020000
END:DAYLIGHT
END:VTIMEZONE
BEGIN:VEVENT
UID:e88e492b-ba33-41d1-a722-e48e24e8c5a6
DTSTAMP:20260423T142811Z
DESCRIPTION:
DTSTART;TZID=America/New_York:20260908T160000
DTEND;TZID=America/New_York:20260908T180000
LOCATION:771 East Main Street\, Suite 100\, Newark\, AL 43055 US
SUMMARY:LCSWCD Monthly Board Meeting
END:VEVENT
END:VCALENDAR
