BEGIN:VCALENDAR
VERSION:2.0
PRODID:-//lickingswcd.com//NONSGML kigkonsult.se iCalcreator 2.30.10//
CALSCALE:GREGORIAN
METHOD:PUBLISH
UID:0f1769c1-2a4a-419f-9a72-2653bb33b393
X-WR-CALDESC:
X-WR-RELCALID:d0b79448d535f242d780a0eaeb8abb64
X-WR-TIMEZONE:America/New_York
BEGIN:VTIMEZONE
TZID:America/New_York
BEGIN:STANDARD
TZNAME:EST
DTSTART:20251102T020000
TZOFFSETFROM:-0400
TZOFFSETTO:-0500
RDATE:20261101T020000
RDATE:20271107T020000
END:STANDARD
BEGIN:DAYLIGHT
TZNAME:EDT
DTSTART:20260308T020000
TZOFFSETFROM:-0500
TZOFFSETTO:-0400
RDATE:20270314T020000
RDATE:20280312T020000
END:DAYLIGHT
END:VTIMEZONE
BEGIN:VEVENT
UID:0b87e823-2093-4d3b-9050-c8080dc3d536
DTSTAMP:20260423T160554Z
DESCRIPTION:
DTSTART;TZID=America/New_York:20261001T060000
DTEND;TZID=America/New_York:20261007T060001
LOCATION:
SUMMARY:Stormwater Awareness Week
END:VEVENT
END:VCALENDAR
