BEGIN:VCALENDAR
VERSION:2.0
PRODID:-//lickingswcd.com//NONSGML kigkonsult.se iCalcreator 2.30.10//
CALSCALE:GREGORIAN
METHOD:PUBLISH
UID:1745f3d2-6072-4e20-91da-1fbb77d750b3
X-WR-CALDESC:
X-WR-RELCALID:57b3fac488b61799e920b398fde7546f
X-WR-TIMEZONE:America/New_York
BEGIN:VTIMEZONE
TZID:America/New_York
BEGIN:STANDARD
TZNAME:EST
DTSTART:20261101T020000
TZOFFSETFROM:-0400
TZOFFSETTO:-0500
RDATE:20271107T020000
END:STANDARD
BEGIN:DAYLIGHT
TZNAME:EDT
DTSTART:20260308T020000
TZOFFSETFROM:-0500
TZOFFSETTO:-0400
RDATE:20270314T020000
RDATE:20280312T020000
END:DAYLIGHT
END:VTIMEZONE
BEGIN:VEVENT
UID:6ece68a4-788d-4b8b-8acc-06410d787543
DTSTAMP:20260423T201700Z
DESCRIPTION:
DTSTART;TZID=America/New_York:20261225T000000
DTEND;TZID=America/New_York:20261225T235900
LOCATION:
SUMMARY:Christmas Day - office closed
END:VEVENT
END:VCALENDAR
