BEGIN:VCALENDAR
VERSION:2.0
PRODID:-//lickingswcd.com//NONSGML kigkonsult.se iCalcreator 2.30.10//
CALSCALE:GREGORIAN
METHOD:PUBLISH
UID:ff3dfc3b-4abc-4b81-903a-6b75dce0c205
X-WR-CALDESC:
X-WR-RELCALID:ed0183ad45c3963d5d35fa8cec0234e7
X-WR-TIMEZONE:America/New_York
BEGIN:VTIMEZONE
TZID:America/New_York
BEGIN:STANDARD
TZNAME:EST
DTSTART:20261101T020000
TZOFFSETFROM:-0400
TZOFFSETTO:-0500
RDATE:20271107T020000
RDATE:20281105T020000
END:STANDARD
BEGIN:DAYLIGHT
TZNAME:EDT
DTSTART:20270314T020000
TZOFFSETFROM:-0500
TZOFFSETTO:-0400
RDATE:20280312T020000
RDATE:20290311T020000
END:DAYLIGHT
END:VTIMEZONE
BEGIN:VEVENT
UID:2f2ec4aa-8527-4018-90e9-eab23a9f7482
DTSTAMP:20260424T151216Z
DESCRIPTION:
DTSTART;TZID=America/New_York:20271001T060000
DTEND;TZID=America/New_York:20271007T060001
LOCATION:
SUMMARY:Stormwater Awareness Week
END:VEVENT
END:VCALENDAR
