BEGIN:VCALENDAR
VERSION:2.0
PRODID:-//lickingswcd.com//NONSGML kigkonsult.se iCalcreator 2.30.10//
CALSCALE:GREGORIAN
METHOD:PUBLISH
UID:c5c8c33d-d4e4-44b0-ad56-8e7886385d4d
X-WR-CALDESC:
X-WR-RELCALID:b51b6109ec5a3ca206cc8aae6e26a778
X-WR-TIMEZONE:America/New_York
BEGIN:VTIMEZONE
TZID:America/New_York
BEGIN:STANDARD
TZNAME:EST
DTSTART:20271107T020000
TZOFFSETFROM:-0400
TZOFFSETTO:-0500
RDATE:20281105T020000
END:STANDARD
BEGIN:DAYLIGHT
TZNAME:EDT
DTSTART:20270314T020000
TZOFFSETFROM:-0500
TZOFFSETTO:-0400
RDATE:20280312T020000
RDATE:20290311T020000
END:DAYLIGHT
END:VTIMEZONE
BEGIN:VEVENT
UID:b57efa8b-a858-409d-8a93-ac1b3b6fdb32
DTSTAMP:20260424T190518Z
DESCRIPTION:
DTSTART;TZID=America/New_York:20271225T000000
DTEND;TZID=America/New_York:20271225T235900
LOCATION:
SUMMARY:Christmas Day - office closed
END:VEVENT
END:VCALENDAR
