BEGIN:VCALENDAR
VERSION:2.0
PRODID:-//lickingswcd.com//NONSGML kigkonsult.se iCalcreator 2.30.10//
CALSCALE:GREGORIAN
METHOD:PUBLISH
UID:d9cffe2c-9797-44b1-af20-4a033fcac58e
X-WR-CALDESC:
X-WR-RELCALID:fe8fc7979a63183a3691b63b24aea6cd
X-WR-TIMEZONE:America/New_York
BEGIN:VTIMEZONE
TZID:America/New_York
BEGIN:STANDARD
TZNAME:EST
DTSTART:20271107T020000
TZOFFSETFROM:-0400
TZOFFSETTO:-0500
RDATE:20281105T020000
RDATE:20291104T020000
END:STANDARD
BEGIN:DAYLIGHT
TZNAME:EDT
DTSTART:20280312T020000
TZOFFSETFROM:-0500
TZOFFSETTO:-0400
RDATE:20290311T020000
RDATE:20300310T020000
END:DAYLIGHT
END:VTIMEZONE
BEGIN:VEVENT
UID:faede89d-5071-4128-a811-717de9706b82
DTSTAMP:20260425T130745Z
DESCRIPTION:
DTSTART;TZID=America/New_York:20280912T160000
DTEND;TZID=America/New_York:20280912T180000
LOCATION:771 East Main Street\, Suite 100\, Newark\, AL 43055 US
SUMMARY:LCSWCD Monthly Board Meeting
END:VEVENT
END:VCALENDAR
