BEGIN:VCALENDAR
VERSION:2.0
PRODID:-//lickingswcd.com//NONSGML kigkonsult.se iCalcreator 2.30.10//
CALSCALE:GREGORIAN
METHOD:PUBLISH
UID:775b90a6-e950-4765-a8dc-69e41cac018a
X-WR-CALDESC:
X-WR-RELCALID:d9ce0e0b2a85414ddd52f961c5fff174
X-WR-TIMEZONE:America/New_York
BEGIN:VTIMEZONE
TZID:America/New_York
BEGIN:STANDARD
TZNAME:EST
DTSTART:20271107T020000
TZOFFSETFROM:-0400
TZOFFSETTO:-0500
RDATE:20281105T020000
RDATE:20291104T020000
END:STANDARD
BEGIN:DAYLIGHT
TZNAME:EDT
DTSTART:20280312T020000
TZOFFSETFROM:-0500
TZOFFSETTO:-0400
RDATE:20290311T020000
RDATE:20300310T020000
END:DAYLIGHT
END:VTIMEZONE
BEGIN:VEVENT
UID:a533f867-c45f-4963-b2f7-746b4f9887ba
DTSTAMP:20260425T150732Z
DESCRIPTION:
DTSTART;TZID=America/New_York:20281001T060000
DTEND;TZID=America/New_York:20281007T060001
LOCATION:
SUMMARY:Stormwater Awareness Week
END:VEVENT
END:VCALENDAR
