BEGIN:VCALENDAR
VERSION:2.0
PRODID:-//lickingswcd.com//NONSGML kigkonsult.se iCalcreator 2.30.10//
CALSCALE:GREGORIAN
METHOD:PUBLISH
UID:3fb9ea4d-53d4-4282-94a3-1747a51ea0e1
X-WR-CALDESC:
X-WR-RELCALID:38ee204a2c5e24a47e509c2a9eca8e9a
X-WR-TIMEZONE:America/New_York
BEGIN:VTIMEZONE
TZID:America/New_York
BEGIN:STANDARD
TZNAME:EST
DTSTART:20281105T020000
TZOFFSETFROM:-0400
TZOFFSETTO:-0500
RDATE:20291104T020000
END:STANDARD
BEGIN:DAYLIGHT
TZNAME:EDT
DTSTART:20280312T020000
TZOFFSETFROM:-0500
TZOFFSETTO:-0400
RDATE:20290311T020000
RDATE:20300310T020000
END:DAYLIGHT
END:VTIMEZONE
BEGIN:VEVENT
UID:77f1c16e-1c5a-4522-82b9-37bd9f19af9d
DTSTAMP:20260425T162006Z
DESCRIPTION:
DTSTART;TZID=America/New_York:20281128T000000
DTEND;TZID=America/New_York:20281128T235900
LOCATION:
SUMMARY:Thanksgiving Day - office closed
END:VEVENT
END:VCALENDAR
